BEGIN:VCALENDAR
VERSION:2.0
PRODID:-//Akademik Psikoloji
CALSCALE:GREGORIAN
METHOD:PUBLISH
X-WR-CALNAME:Akademik Psikoloji
X-ORIGINAL-URL:https://akademikpsikoloji.com/urun/soulcollage-2024-takvim-calismasi/
X-WR-CALDESC:SOULCOLLAGE® 2024 TAKVİM ÇALIŞMASI-Zoom
BEGIN:VEVENT
DTSTART;TZID=Europe/Moscow:20231221T180000
DTEND;TZID=Europe/Moscow:20231221T220000
SUMMARY:SOULCOLLAGE® 2024 TAKVİM ÇALIŞMASI-Zoom
DESCRIPTION:
URL:https://akademikpsikoloji.com/urun/soulcollage-2024-takvim-calismasi/
LOCATION:
END:VEVENT
END:VCALENDAR
