BEGIN:VCALENDAR
VERSION:2.0
PRODID:-//Akademik Psikoloji
CALSCALE:GREGORIAN
METHOD:PUBLISH
X-WR-CALNAME:Akademik Psikoloji
X-ORIGINAL-URL:https://akademikpsikoloji.com/urun/iyi-olma-halini-destekleme-yolari/
X-WR-CALDESC:İyi Olma Halini Destekleme Yolları
BEGIN:VEVENT
DTSTART;TZID=Europe/Moscow:20211207T100000
DTEND;TZID=Europe/Moscow:20211207T130000
SUMMARY:İyi Olma Halini Destekleme Yolları
DESCRIPTION:Ülkemizde bu sene ikinci kez 30 Kasım'da kutlanan paylaşmanın, dayanışmanın ve gönüllülüğün teşvik edildiği Paylaşma Günü’nü destekliyor ve "İyi OLma Halini Destekleme Yolları" çalışması ile ile hepimize katkı sağlamayı istiyorum. Bugünün bir parçası olmak niyetimle sizlerle" İyi Olma Halini Destekleme Yolları" çalışmasını 7 Aralık 2021 saat 10.00-13.00 arasında ücretsiz olarak gerçekleştireceğim. İsteyen herkesin katılabileceği etkinlikte 3 saatlik bir zamanda  iyi olma hali ne demek, bunu yaratmanın nasıl olabileceği ve kendi iyi olma halimizi nasıl destekleyebileceğimiz ile ilgili konuşacağız. Her şey farkındalıkla başlıyorsa bu etkinliği bir farkındalık zamanı olarak kullanmak sanırım hepimizin ihtiyacı olan şeyi alması için en doğru konumlandırma olacaktır. Ben bende olanları sizlerle paylaşacağım, siz neye ihtiyacınız var ise onu alacaksınız, ve belki de bize sizin deneyimlerinizden de bir hediye sunarsınız. Amaç bir araya gelmek ve paylaşmak, neyi mi? Sevgimizi, saygımızı, farkındalığımızı, hayata minnettarlığımızı.. Hepinizi bekliyorum. Sevgilerimle, Zeynep Balcı 30 Kasım #PaylaşmaGünü’müz kutlu olsun, iyi ki varsınız!
URL:https://akademikpsikoloji.com/urun/iyi-olma-halini-destekleme-yolari/
LOCATION:
END:VEVENT
END:VCALENDAR
